BEGIN:VCALENDAR
VERSION:2.0
PRODID:-//ChamberMaster//Event Calendar 2.0//EN
METHOD:PUBLISH
X-PUBLISHED-TTL:P3D
REFRESH-INTERVAL:P3D
CALSCALE:GREGORIAN
BEGIN:VEVENT
DTSTART:20230611T110000Z
DTEND:20230611T130000Z
X-MICROSOFT-CDO-ALLDAYEVENT:FALSE
SUMMARY:Rescue Run
DESCRIPTION:Join us for our annual SPCA 5k Rescue Run/Walk\, presented by Community Bank of the Chesapeake! This important event helps us hit our stride in the fight to end animal suffering\, so whether you're in for a competitive run or simply a community stroll to benefit the animals\, come join us! Virtual race option available. This race is part of the 2023 Coldwell Banker Elite Grand Prix Race Series managed by the Fredericksburg Area Running Club.
X-ALT-DESC;FMTTYPE=text/html:Join us for our annual SPCA 5k Rescue Run/Walk\, presented by Community Bank of the Chesapeake! This important event helps us hit our stride in the fight to end animal suffering\, so whether you&#39\;re in for a competitive run or simply a community stroll to benefit the animals\, come join us! Virtual race option available. This race is part of the 2023 Coldwell Banker Elite Grand Prix Race Series managed by the Fredericksburg Area Running Club.
LOCATION:1201 Caroline Street Fredericksburg\, VA\, 22401
UID:e.492.13416
SEQUENCE:3
DTSTAMP:20260422T054120Z
URL:https://members.fredericksburgchamber.org/events/details/rescue-run-06-11-2023-13416
END:VEVENT

END:VCALENDAR
