BEGIN:VCALENDAR
VERSION:2.0
PRODID:-//ChamberMaster//Event Calendar 2.0//EN
METHOD:PUBLISH
X-PUBLISHED-TTL:P3D
REFRESH-INTERVAL:P3D
CALSCALE:GREGORIAN
BEGIN:VEVENT
DTSTART:20250609T150000Z
DTEND:20250609T163000Z
X-MICROSOFT-CDO-ALLDAYEVENT:FALSE
SUMMARY:RESET & RISE Lunch and Learn Series
DESCRIPTION:Do you know people who are affected by the reduction in the federal workforce? Maybe they are not federal workers but they are contractors or are still facing layoffs. The Courtyard by Marriott Fredericksburg Historic District is hosting a series of lunch and learn sessions to help those currently\, or potentially\, facing layoffs. Come downtown\, grab a buffet lunch\, and speakers will present on a variety of topics. This is your chance to network\, and we will wrap up the series with a job fair.
X-ALT-DESC;FMTTYPE=text/html:<span style="color:rgb(8\, 8\, 9)\; font-family:segoe ui historic\,segoe ui\,helvetica\,arial\,sans-serif\; font-size:15px">Do you know people who are affected by the reduction in the federal workforce? Maybe they are not federal workers but they are contractors or are still facing layoffs. The </span><span style="color:rgb(8\, 8\, 9)\; font-family:segoe ui historic\,segoe ui\,helvetica\,arial\,sans-serif\; font-size:15px"><a class="x1i10hfl xjbqb8w x1ejq31n xd10rxx x1sy0etr x17r0tee x972fbf xcfux6l x1qhh985 xm0m39n x9f619 x1ypdohk xt0psk2 xe8uvvx xdj266r x11i5rnm xat24cr x1mh8g0r xexx8yu x4uap5 x18d9i69 xkhd6sd x16tdsg8 x1hl2dhg xggy1nq x1a2a7pz xkrqix3 x1sur9pj x1fey0fg x1s688f" href="https://www.facebook.com/CourtyardFredericksburgHistoricDistrict?__cft__[0]=AZWMCv60Jb8WrPHSaQnVu6_ne5Cds67EfGCgOGrxHl4ewiU7StXrAkQ6e-JPwTSDUyMSr-FQ390CWRUlK-N5cQ1DrfssjTBEurDVqy9Fpk2u3iho0PlMNnnVUnF0km0vbR8BzfaimYw4OapBYZ7xFu9x3tNzVefkMM-jOu8MV4j26g&amp\;__tn__=-]K-R" style="color: rgb(0\, 100\, 209)\; cursor: pointer\; text-decoration-line: none\; list-style: none\; margin: 0px\; text-align: inherit\; border-style: none\; padding: 0px\; box-sizing: border-box\; border-width: 0px\; outline: none\; -webkit-tap-highlight-color: transparent\; font-weight: 600\; touch-action: manipulation\; background-color: transparent\; display: inline\; font-family: inherit\;" tabindex="0"><span style="font-family:inherit">Courtyard by Marriott Fredericksburg Historic District</span></a></span><span style="color:rgb(8\, 8\, 9)\; font-family:segoe ui historic\,segoe ui\,helvetica\,arial\,sans-serif\; font-size:15px"> is hosting a series of lunch and learn sessions to help those currently\, or potentially\, facing layoffs. Come downtown\, grab a buffet lunch\, and speakers will present on a variety of topics. This is your chance to network\, and we will wrap up the </span><span style="color:rgb(8\, 8\, 9)\; font-family:segoe ui historic\,segoe ui\,helvetica\,arial\,sans-serif\; font-size:15px">series with a job fair. </span>
LOCATION:Courtyard by Marriott Fredericksburg 620 Caroline St Fredericksburg VA 22401
UID:e.492.14852
SEQUENCE:3
DTSTAMP:20260422T020402Z
URL:https://members.fredericksburgchamber.org/events/details/reset-rise-lunch-and-learn-series-06-09-2025-14852
END:VEVENT

END:VCALENDAR
