BEGIN:VCALENDAR
VERSION:2.0
PRODID:-//ChamberMaster//Event Calendar 2.0//EN
METHOD:PUBLISH
X-PUBLISHED-TTL:P3D
REFRESH-INTERVAL:P3D
CALSCALE:GREGORIAN
BEGIN:VEVENT
DTSTART:20220831T213000Z
DTEND:20220831T230000Z
X-MICROSOFT-CDO-ALLDAYEVENT:FALSE
SUMMARY:Restore and Rejuvenate
DESCRIPTION:Join us to learn more about how our services can benefit your anti-aging goals. Featuring our Scarlet Microneedling device and our Magma Laser Device. Special event pricing\, a chance to win door prizes and Grand prizes for all who attend. Bring a friend. Must RSVP as soon as possible. Light apps and drinks. RSVP 540-322-1226
X-ALT-DESC;FMTTYPE=text/html:Join us to learn more about how our services can benefit your anti-aging goals. Featuring our Scarlet Microneedling device and our Magma Laser Device. Special event pricing\, a chance to win door prizes and Grand prizes for all who attend. Bring a friend. Must RSVP as soon as possible. Light apps and drinks. RSVP 540-322-1226
LOCATION:10740 b Courthouse Road\, Fredericksburg\, VA 22408
UID:e.492.13082
SEQUENCE:3
DTSTAMP:20260422T225146Z
URL:https://members.fredericksburgchamber.org/events/details/restore-and-rejuvenate-13082
END:VEVENT

END:VCALENDAR
