BEGIN:VCALENDAR
VERSION:2.0
PRODID:-//ChamberMaster//Event Calendar 2.0//EN
METHOD:PUBLISH
X-PUBLISHED-TTL:P3D
REFRESH-INTERVAL:P3D
CALSCALE:GREGORIAN
BEGIN:VEVENT
DTSTART:20220823T143000Z
DTEND:20220823T160000Z
X-MICROSOFT-CDO-ALLDAYEVENT:FALSE
SUMMARY:Ribbon Cutting: ActionCoach Fredericksburg Region
DESCRIPTION:Ribbon Cutting & Seminar: Celebrating the Grand Opening of ActionCOACH Fredericksburg!
X-ALT-DESC;FMTTYPE=text/html:Ribbon Cutting &amp\; Seminar: Celebrating the Grand Opening of ActionCOACH Fredericksburg!
LOCATION:Fredericksburg Regional Chamber of Commerce 2300 Fall Hill Avenue\, Ste. 240 Fredericksburg\, VA 22401
UID:e.492.13043
SEQUENCE:3
DTSTAMP:20260422T212348Z
URL:https://members.fredericksburgchamber.org/events/details/ribbon-cutting-actioncoach-fredericksburg-region-13043
END:VEVENT

END:VCALENDAR
