BEGIN:VCALENDAR
VERSION:2.0
PRODID:-//ChamberMaster//Event Calendar 2.0//EN
METHOD:PUBLISH
X-PUBLISHED-TTL:P3D
REFRESH-INTERVAL:P3D
CALSCALE:GREGORIAN
BEGIN:VEVENT
DTSTART:20231116T170000Z
DTEND:20231116T173000Z
X-MICROSOFT-CDO-ALLDAYEVENT:FALSE
SUMMARY:Ribbon Cutting: Carter Bank and Trust
DESCRIPTION:Established in 1974 in Rocky Mount\, Virginia\, Carter Bank embarked on an expansion journey\, venturing into Spotsylvania in May 1988. The prime objective behind this expansion was to foster increased opportunities for the growth and prosperity of individuals and businesses. With a robust network comprising over 65 branches spanning Virginia and North Carolina\, Carter Bank is dedicated to assisting people in fulfilling their distinctive financial requirements through tailored financial solutions. Functioning as an inclusive community bank\, Carter Bank extends its services to accommodate the financial necessities of individuals\, businesses\, and mortgage clients. The bank provides a comprehensive array of products\, including fundamental checking and savings accounts\, Certificates of Deposit (CDs)\, Money Market Accounts\, as well as offerings such as home loans\, business loans\, Home Equity Lines of Credit (HELOCs)\, and substantial commercial loans.
X-ALT-DESC;FMTTYPE=text/html:Established in 1974 in Rocky Mount\, Virginia\, Carter Bank embarked on an expansion journey\, venturing into Spotsylvania in May 1988. The prime objective behind this expansion was to foster increased opportunities for the growth and prosperity of individuals and businesses. With a robust network comprising over 65 branches spanning Virginia and North Carolina\, Carter Bank is dedicated to assisting people in fulfilling their distinctive financial requirements through tailored financial solutions. Functioning as an inclusive community bank\, Carter Bank extends its services to accommodate the financial necessities of individuals\, businesses\, and mortgage clients. The bank provides a comprehensive array of products\, including fundamental checking and savings accounts\, Certificates of Deposit (CDs)\, Money Market Accounts\, as well as offerings such as home loans\, business loans\, Home Equity Lines of Credit (HELOCs)\, and substantial commercial loans.
LOCATION:Carter Bank and Trust 10407 Courthouse Rd Spotsylvania\, VA 22553
UID:e.492.13758
SEQUENCE:3
DTSTAMP:20260421T220500Z
URL:https://members.fredericksburgchamber.org/events/details/ribbon-cutting-carter-bank-and-trust-13758
END:VEVENT

END:VCALENDAR
