BEGIN:VCALENDAR
VERSION:2.0
PRODID:-//ChamberMaster//Event Calendar 2.0//EN
METHOD:PUBLISH
X-PUBLISHED-TTL:P3D
REFRESH-INTERVAL:P3D
CALSCALE:GREGORIAN
BEGIN:VEVENT
DTSTART:20230331T190000Z
DTEND:20230331T193000Z
X-MICROSOFT-CDO-ALLDAYEVENT:FALSE
SUMMARY:Ribbon Cutting Celebrating Discover Next Step's 10th Anniversary!
DESCRIPTION:Ribbon Cutting Celebrating Discover Next Step's 10th Anniversary!
X-ALT-DESC;FMTTYPE=text/html:Ribbon Cutting Celebrating Discover Next Step&#39\;s 10th Anniversary!
LOCATION:1125 Emancipation Highway Suite 400 Fredericksburg\, VA 22401
UID:e.492.13375
SEQUENCE:3
DTSTAMP:20260422T102713Z
URL:https://members.fredericksburgchamber.org/events/details/ribbon-cutting-celebrating-discover-next-step-s-10th-anniversary-13375
END:VEVENT

END:VCALENDAR
