BEGIN:VCALENDAR
VERSION:2.0
PRODID:-//ChamberMaster//Event Calendar 2.0//EN
METHOD:PUBLISH
X-PUBLISHED-TTL:P3D
REFRESH-INTERVAL:P3D
CALSCALE:GREGORIAN
BEGIN:VEVENT
DTSTART:20230112T210000Z
DTEND:20230112T220000Z
X-MICROSOFT-CDO-ALLDAYEVENT:FALSE
SUMMARY:Ribbon Cutting Celebrating Fredericksburg SHRM!
DESCRIPTION:Celebration and Installation of New Board of Directors!
X-ALT-DESC;FMTTYPE=text/html:Celebration and Installation of New Board of Directors!<br />\n&nbsp\;
LOCATION:Fredericksburg Regional Chamber of Commerce 2300 Fall Hill Avenue Suite 240 Fredericksburg\, Virginia 22401
UID:e.492.13279
SEQUENCE:3
DTSTAMP:20260422T134343Z
URL:https://members.fredericksburgchamber.org/events/details/ribbon-cutting-celebrating-fredericksburg-shrm-13279
END:VEVENT

END:VCALENDAR
