BEGIN:VCALENDAR
VERSION:2.0
PRODID:-//ChamberMaster//Event Calendar 2.0//EN
METHOD:PUBLISH
X-PUBLISHED-TTL:P3D
REFRESH-INTERVAL:P3D
CALSCALE:GREGORIAN
BEGIN:VEVENT
DTSTART:20230607T210000Z
DTEND:20230607T213000Z
X-MICROSOFT-CDO-ALLDAYEVENT:FALSE
SUMMARY:Ribbon Cutting Celebrating New Team Members at First Citizens Bank
DESCRIPTION:First Citizens was founded in 1898 in North Carolina. They're the largest family-controlled bank in the United States and a top 20 U.S. bank by asset size. For nearly 125 years\, they've helped individuals\, families and companies of all sizes make more of their finances. They have shared clients' dreams and helped make their budgets work harder and put together financial plans to help them achieve their goals. Their goal is to help personal\, business\, commercial and wealth clients build financial strength that lasts.
X-ALT-DESC;FMTTYPE=text/html:First Citizens was founded in 1898 in North Carolina. They&#39\;re the largest family-controlled bank in the United States and a top 20 U.S. bank by asset size. For nearly 125 years\, they&#39\;ve helped individuals\, families and companies of all sizes make more of their finances. They have shared clients&#39\; dreams and helped make their budgets work harder and put together financial plans to help them achieve their goals. Their goal is to help personal\, business\, commercial and wealth clients build financial strength that lasts.&nbsp\;&nbsp\;&nbsp\;&nbsp\;
LOCATION:First Citizens Bank 1575 Emancipation Hwy Fredericksburg\, VA 22401
UID:e.492.13565
SEQUENCE:3
DTSTAMP:20260422T071257Z
URL:https://members.fredericksburgchamber.org/events/details/ribbon-cutting-celebrating-new-team-members-at-first-citizens-bank-13565
END:VEVENT

END:VCALENDAR
