BEGIN:VCALENDAR
VERSION:2.0
PRODID:-//ChamberMaster//Event Calendar 2.0//EN
METHOD:PUBLISH
X-PUBLISHED-TTL:P3D
REFRESH-INTERVAL:P3D
CALSCALE:GREGORIAN
BEGIN:VEVENT
DTSTART:20220810T203000Z
DTEND:20220810T233000Z
X-MICROSOFT-CDO-ALLDAYEVENT:FALSE
SUMMARY:Ribbon Cutting: Celebrating the 1st Anniversary of Tru by Hilton Thornburg
DESCRIPTION:Celebrating the 1st Anniversary of Opening the Doors for Tru by Hilton Thornburg! One Year in Business!
X-ALT-DESC;FMTTYPE=text/html:Celebrating the 1st Anniversary of Opening the Doors for Tru by Hilton Thornburg! One Year in Business!
LOCATION:6524 Dominion Raceway Woodford\, Virginia 22580
UID:e.492.13031
SEQUENCE:3
DTSTAMP:20260422T230216Z
URL:https://members.fredericksburgchamber.org/events/details/ribbon-cutting-celebrating-the-1st-anniversary-of-tru-by-hilton-thornburg-13031
END:VEVENT

END:VCALENDAR
