BEGIN:VCALENDAR
VERSION:2.0
PRODID:-//ChamberMaster//Event Calendar 2.0//EN
METHOD:PUBLISH
X-PUBLISHED-TTL:P3D
REFRESH-INTERVAL:P3D
CALSCALE:GREGORIAN
BEGIN:VEVENT
DTSTART:20230202T224500Z
DTEND:20230202T233000Z
X-MICROSOFT-CDO-ALLDAYEVENT:FALSE
SUMMARY:Ribbon Cutting Celebrating the 25th Anniversary of Riverside Center for the Performing Arts!
DESCRIPTION:Ribbon Cutting Celebration Kicking off 25 Years in the Community!
X-ALT-DESC;FMTTYPE=text/html:Ribbon Cutting Celebration Kicking off 25 Years in the Community!
LOCATION:Riverside Center for the Performing Arts 95 Riverside Parkway Fredericksburg\, Virginia 22406
UID:e.492.13370
SEQUENCE:3
DTSTAMP:20260422T115914Z
URL:https://members.fredericksburgchamber.org/events/details/ribbon-cutting-celebrating-the-25th-anniversary-of-riverside-center-for-the-performing-arts-13370
END:VEVENT

END:VCALENDAR
