BEGIN:VCALENDAR
VERSION:2.0
PRODID:-//ChamberMaster//Event Calendar 2.0//EN
METHOD:PUBLISH
X-PUBLISHED-TTL:P3D
REFRESH-INTERVAL:P3D
CALSCALE:GREGORIAN
BEGIN:VEVENT
DTSTART:20221118T210000Z
DTEND:20221118T213000Z
X-MICROSOFT-CDO-ALLDAYEVENT:FALSE
SUMMARY:Ribbon Cutting Celebrating the Anniversary of Bohn Mortgage Lending!
DESCRIPTION:Celebrating 18 years in business in the Fredericksburg Region!
X-ALT-DESC;FMTTYPE=text/html:Celebrating 18 years in business in the Fredericksburg Region!
LOCATION:107 William Street Fredericksburg\, VA 22401
UID:e.492.13179
SEQUENCE:3
DTSTAMP:20260422T164309Z
URL:https://members.fredericksburgchamber.org/events/details/ribbon-cutting-celebrating-the-anniversary-of-bohn-mortgage-lending-13179
END:VEVENT

END:VCALENDAR
