BEGIN:VCALENDAR
VERSION:2.0
PRODID:-//ChamberMaster//Event Calendar 2.0//EN
METHOD:PUBLISH
X-PUBLISHED-TTL:P3D
REFRESH-INTERVAL:P3D
CALSCALE:GREGORIAN
BEGIN:VEVENT
DTSTART:20220901T164500Z
DTEND:20220901T173000Z
X-MICROSOFT-CDO-ALLDAYEVENT:FALSE
SUMMARY:Ribbon Cutting Celebrating the Anniversary of Grace Health Services!
DESCRIPTION:Celebrating the Anniversary of Grace Health Services\, LLC!
X-ALT-DESC;FMTTYPE=text/html:Celebrating the Anniversary of Grace Health Services\, LLC!
LOCATION:5322 Ladysmith Road Ruther Glen\, Virginia 22546
UID:e.492.13097
SEQUENCE:3
DTSTAMP:20260422T194713Z
URL:https://members.fredericksburgchamber.org/events/details/ribbon-cutting-celebrating-the-anniversary-of-grace-health-services-13097
END:VEVENT

END:VCALENDAR
