BEGIN:VCALENDAR
VERSION:2.0
PRODID:-//ChamberMaster//Event Calendar 2.0//EN
METHOD:PUBLISH
X-PUBLISHED-TTL:P3D
REFRESH-INTERVAL:P3D
CALSCALE:GREGORIAN
BEGIN:VEVENT
DTSTART:20221021T160000Z
DTEND:20221021T163000Z
X-MICROSOFT-CDO-ALLDAYEVENT:FALSE
SUMMARY:Ribbon Cutting Celebrating the Grand Opening in Spotsylvania of CMS Mortgage & RealtyOneGroup Unified!
DESCRIPTION:Grand Opening Ribbon Cutting for the Fredericksburg Office of CMS Mortgage & RealtyOneGroup Unified!
X-ALT-DESC;FMTTYPE=text/html:Grand Opening Ribbon Cutting for the Fredericksburg Office of CMS Mortgage &amp\; RealtyOneGroup Unified!
LOCATION:9951 Patriots Highway Fredericksburg\, VA 22407
UID:e.492.13095
SEQUENCE:3
DTSTAMP:20260422T181929Z
URL:https://members.fredericksburgchamber.org/events/details/ribbon-cutting-celebrating-the-grand-opening-in-spotsylvania-of-cms-mortgage-realtyonegroup-unified-13095
END:VEVENT

END:VCALENDAR
