BEGIN:VCALENDAR
VERSION:2.0
PRODID:-//ChamberMaster//Event Calendar 2.0//EN
METHOD:PUBLISH
X-PUBLISHED-TTL:P3D
REFRESH-INTERVAL:P3D
CALSCALE:GREGORIAN
BEGIN:VEVENT
DTSTART:20221116T210000Z
DTEND:20221116T213000Z
X-MICROSOFT-CDO-ALLDAYEVENT:FALSE
SUMMARY:Ribbon Cutting Celebrating the Grand Opening of a New Building at Silver Collection Cosners Corner!
DESCRIPTION:Ribbon Cutting Celebrating the Grand Opening of a New Building at Silver Collection Cosner's Corner!
X-ALT-DESC;FMTTYPE=text/html:Ribbon Cutting Celebrating the Grand Opening of a New Building at Silver Collection Cosner&#39\;s Corner!
LOCATION:9500 SIlver Collection Circle Fredericksburg\, Virginia 22408
UID:e.492.13146
SEQUENCE:3
DTSTAMP:20260422T164420Z
URL:https://members.fredericksburgchamber.org/events/details/ribbon-cutting-celebrating-the-grand-opening-of-a-new-building-at-silver-collection-cosners-corner-13146
END:VEVENT

END:VCALENDAR
