BEGIN:VCALENDAR
VERSION:2.0
PRODID:-//ChamberMaster//Event Calendar 2.0//EN
METHOD:PUBLISH
X-PUBLISHED-TTL:P3D
REFRESH-INTERVAL:P3D
CALSCALE:GREGORIAN
BEGIN:VEVENT
DTSTART:20221027T160000Z
DTEND:20221027T163000Z
X-MICROSOFT-CDO-ALLDAYEVENT:FALSE
SUMMARY:Ribbon Cutting Celebrating the Grand Opening of BrightView Health!
DESCRIPTION:Ribbon Cutting for the Grand Opening of BrightView Health!
X-ALT-DESC;FMTTYPE=text/html:Ribbon Cutting for the Grand Opening of BrightView Health!
LOCATION:5610 Southpoint Centre Boulevard Fredericksburg\, Virginia 22407
UID:e.492.13106
SEQUENCE:3
DTSTAMP:20260422T194713Z
URL:https://members.fredericksburgchamber.org/events/details/ribbon-cutting-celebrating-the-grand-opening-of-brightview-health-13106
END:VEVENT

END:VCALENDAR
