BEGIN:VCALENDAR
VERSION:2.0
PRODID:-//ChamberMaster//Event Calendar 2.0//EN
METHOD:PUBLISH
X-PUBLISHED-TTL:P3D
REFRESH-INTERVAL:P3D
CALSCALE:GREGORIAN
BEGIN:VEVENT
DTSTART:20220921T200000Z
DTEND:20220921T203000Z
X-MICROSOFT-CDO-ALLDAYEVENT:FALSE
SUMMARY:Ribbon Cutting Celebrating the Grand Opening of Chad Hallett Lending Team's New Office!(Movement Mortgage)
DESCRIPTION:Grand Opening Celebration & Ribbon Cutting for Chad Hallett Lending Team (Movement Mortgage)!
X-ALT-DESC;FMTTYPE=text/html:Grand Opening Celebration &amp\; Ribbon Cutting for Chad Hallett Lending Team (Movement Mortgage)!
LOCATION:325 Emancipation Hwy Fredericksburg\, VA 22401
UID:e.492.13050
SEQUENCE:3
DTSTAMP:20260422T194825Z
URL:https://members.fredericksburgchamber.org/events/details/ribbon-cutting-celebrating-the-grand-opening-of-chad-hallett-lending-team-s-new-office-movement-mortgage-13050
END:VEVENT

END:VCALENDAR
