BEGIN:VCALENDAR
VERSION:2.0
PRODID:-//ChamberMaster//Event Calendar 2.0//EN
METHOD:PUBLISH
X-PUBLISHED-TTL:P3D
REFRESH-INTERVAL:P3D
CALSCALE:GREGORIAN
BEGIN:VEVENT
DTSTART:20221011T190000Z
DTEND:20221011T193000Z
X-MICROSOFT-CDO-ALLDAYEVENT:FALSE
SUMMARY:Ribbon Cutting Celebrating the Grand Opening of Collage Day Spa!
DESCRIPTION:Celebrating the Grand Opening of Collage Day Spa!
X-ALT-DESC;FMTTYPE=text/html:Celebrating the Grand Opening of Collage Day Spa!
LOCATION:804 Charles Street Fredericksburg\, VA 22401
UID:e.492.13131
SEQUENCE:3
DTSTAMP:20260422T181630Z
URL:https://members.fredericksburgchamber.org/events/details/ribbon-cutting-celebrating-the-grand-opening-of-collage-day-spa-13131
END:VEVENT

END:VCALENDAR
