BEGIN:VCALENDAR
VERSION:2.0
PRODID:-//ChamberMaster//Event Calendar 2.0//EN
METHOD:PUBLISH
X-PUBLISHED-TTL:P3D
REFRESH-INTERVAL:P3D
CALSCALE:GREGORIAN
BEGIN:VEVENT
DTSTART:20240503T140000Z
DTEND:20240503T143000Z
X-MICROSOFT-CDO-ALLDAYEVENT:FALSE
SUMMARY:Ribbon Cutting: Celebrating the Grand Opening of Crimson Coward Fredericksburg
DESCRIPTION:A native of Los Angeles and inspired by Nashville\, Crimson Coward is committed to introducing the Nashville hot chicken phenomenon to the Fredericksburg\, Virginia area. Their time spent with authentic Nashville chefs and exploring the city's remarkable eateries and hot chicken joints was truly inspiring. At Crimson Coward\, they take pride in serving Nashville hot chicken that maintains uncompromised quality and flavor. Their cuisine redefines quality by utilizing only the freshest ingredients\, including their signature sides made fresh daily. They exclusively offer premium\, all-natural\, hormone and antibiotic-free chicken sourced from reputable farms. Crimson Coward is honored to bring this concept to the Fredericksburg business scene\, serving hot Nashville-style chicken that is always fresh\, never frozen\, and made to order.
X-ALT-DESC;FMTTYPE=text/html:A native of Los Angeles and inspired by Nashville\, Crimson Coward is committed to introducing the Nashville hot chicken phenomenon to the Fredericksburg\, Virginia area. Their time spent with authentic Nashville chefs and exploring the city&#39\;s remarkable eateries and hot chicken joints was truly inspiring. At Crimson Coward\, they take pride in serving Nashville hot chicken that maintains uncompromised quality and flavor. Their cuisine redefines quality by utilizing only the freshest ingredients\, including their signature sides made fresh daily. They exclusively offer premium\, all-natural\, hormone and antibiotic-free chicken sourced from reputable farms. Crimson Coward is honored to bring this concept to the Fredericksburg business scene\, serving hot Nashville-style chicken that is always fresh\, never frozen\, and made to order.
LOCATION:Crimson Coward 1217 Emancipation Hwy Fredericksburg\, VA 22401
UID:e.492.13955
SEQUENCE:3
DTSTAMP:20260422T071548Z
URL:https://members.fredericksburgchamber.org/events/details/ribbon-cutting-celebrating-the-grand-opening-of-crimson-coward-fredericksburg-13955
END:VEVENT

END:VCALENDAR
