BEGIN:VCALENDAR
VERSION:2.0
PRODID:-//ChamberMaster//Event Calendar 2.0//EN
METHOD:PUBLISH
X-PUBLISHED-TTL:P3D
REFRESH-INTERVAL:P3D
CALSCALE:GREGORIAN
BEGIN:VEVENT
DTSTART:20240219T210000Z
DTEND:20240219T213000Z
X-MICROSOFT-CDO-ALLDAYEVENT:FALSE
SUMMARY:Ribbon Cutting Celebrating the Grand Opening of Fredericksburg Free Press
DESCRIPTION:The Fredericksburg Free Press\, a recently established Virginia not-for-profit corporation\, is dedicated to educating and informing the residents of the Fredericksburg region. Operating as an independent and nonpartisan digital news service\, the organization has been in operation for one year and is now ready to mark its official launch on February 19th\, 2024.
X-ALT-DESC;FMTTYPE=text/html:The Fredericksburg Free Press\, a recently established Virginia not-for-profit corporation\, is dedicated to educating and informing the residents of the Fredericksburg region. Operating as an independent and nonpartisan digital news service\, the organization has been in operation for one year and is now ready to mark its official launch on February 19th\, 2024.
LOCATION:Fredericksburg Free Press 401 Princess Anne St.\, Suite 100 Fredericksburg\, VA 22401
UID:e.492.13856
SEQUENCE:3
DTSTAMP:20260422T024958Z
URL:https://members.fredericksburgchamber.org/events/details/ribbon-cutting-celebrating-the-grand-opening-of-fredericksburg-free-press-13856
END:VEVENT

END:VCALENDAR
