BEGIN:VCALENDAR
VERSION:2.0
PRODID:-//ChamberMaster//Event Calendar 2.0//EN
METHOD:PUBLISH
X-PUBLISHED-TTL:P3D
REFRESH-INTERVAL:P3D
CALSCALE:GREGORIAN
BEGIN:VEVENT
DTSTART:20240216T200000Z
DTEND:20240216T203000Z
X-MICROSOFT-CDO-ALLDAYEVENT:FALSE
SUMMARY:Ribbon Cutting Celebrating the Grand Opening of Heart-Centered Academy
DESCRIPTION:After dedicating multiple years to improving and restructuring programs within public schools\, and establishing a special needs program\, Heart-Centered Academy sensed a compelling calling to establish a non-profit organization. Their primary goal is to foster an inclusive and respectful environment for all students\, with a focus on enabling academic success. They provides services such as Academic Testing\, Academic Support\, ADHD Support\, and Advocacy & Consultation.
X-ALT-DESC;FMTTYPE=text/html:After dedicating multiple years to improving and restructuring programs within public schools\, and establishing a special needs program\, Heart-Centered Academy sensed a compelling calling to establish a non-profit organization. Their primary goal is to foster an inclusive and respectful environment for all students\, with a focus on enabling academic success. They provides services such as Academic Testing\, Academic Support\, ADHD Support\, and Advocacy &amp\; Consultation.
LOCATION:Heart-Centered Academy 1101-B Heatherstone Drive Fredericksburg\, VA 22407
UID:e.492.13849
SEQUENCE:3
DTSTAMP:20260422T024753Z
URL:https://members.fredericksburgchamber.org/events/details/ribbon-cutting-celebrating-the-grand-opening-of-heart-centered-academy-13849
END:VEVENT

END:VCALENDAR
