BEGIN:VCALENDAR
VERSION:2.0
PRODID:-//ChamberMaster//Event Calendar 2.0//EN
METHOD:PUBLISH
X-PUBLISHED-TTL:P3D
REFRESH-INTERVAL:P3D
CALSCALE:GREGORIAN
BEGIN:VEVENT
DTSTART:20230127T170000Z
DTEND:20230127T173000Z
X-MICROSOFT-CDO-ALLDAYEVENT:FALSE
SUMMARY:Ribbon Cutting Celebrating the Grand Opening of Hope (Helping Other People Eat) Heroes Southern Kitchen\, Inc!
DESCRIPTION:Celebrating the Grand Opening of Hope Heroes Southern Kitchen!\n\nCome meet our team of heroes\, led by Chef Jessica Wilkins finalist on Alton Brown's "Cutthroat Kitchen" and recently cast on Food Networks' "Chopped"!
X-ALT-DESC;FMTTYPE=text/html:Celebrating the Grand Opening of Hope Heroes Southern Kitchen!<br />\nCome meet our team of heroes\, led by Chef Jessica Wilkins finalist on Alton Brown&#39\;s &quot\;Cutthroat Kitchen&quot\; and recently cast on Food Networks&#39\; &quot\;Chopped&quot\;!&nbsp\;
LOCATION:9677 Patriot Highway\, Fredericksburg\, VA 22407 Endcap (Kohls pad on the far right opposite end from Joanne Fabric)
UID:e.492.13365
SEQUENCE:3
DTSTAMP:20260422T135057Z
URL:https://members.fredericksburgchamber.org/events/details/ribbon-cutting-celebrating-the-grand-opening-of-hope-helping-other-people-eat-heroes-southern-kitchen-inc-13365
END:VEVENT

END:VCALENDAR
