BEGIN:VCALENDAR
VERSION:2.0
PRODID:-//ChamberMaster//Event Calendar 2.0//EN
METHOD:PUBLISH
X-PUBLISHED-TTL:P3D
REFRESH-INTERVAL:P3D
CALSCALE:GREGORIAN
BEGIN:VEVENT
DTSTART:20230601T200000Z
DTEND:20230601T203000Z
X-MICROSOFT-CDO-ALLDAYEVENT:FALSE
SUMMARY:Ribbon Cutting: Celebrating the Grand Opening of JustTech's New Offices & Distribution Center!
DESCRIPTION:Ribbon Cutting Celebrating the Grand Opening of JustTech's New Offices & Distribution Center!
X-ALT-DESC;FMTTYPE=text/html:Ribbon Cutting Celebrating the Grand Opening of JustTech&#39\;s New Offices &amp\; Distribution Center!
LOCATION:Strangeways Brewery 350 Lansdowne Road\, Fredericksburg\, VA 22401
UID:e.492.13508
SEQUENCE:3
DTSTAMP:20260422T055043Z
URL:https://members.fredericksburgchamber.org/events/details/ribbon-cutting-celebrating-the-grand-opening-of-justtech-s-new-offices-distribution-center-13508
END:VEVENT

END:VCALENDAR
