BEGIN:VCALENDAR
VERSION:2.0
PRODID:-//ChamberMaster//Event Calendar 2.0//EN
METHOD:PUBLISH
X-PUBLISHED-TTL:P3D
REFRESH-INTERVAL:P3D
CALSCALE:GREGORIAN
BEGIN:VEVENT
DTSTART:20240419T203000Z
DTEND:20240419T210000Z
X-MICROSOFT-CDO-ALLDAYEVENT:FALSE
SUMMARY:Ribbon Cutting Celebrating the Grand Opening of Peoples Mortgage Company
DESCRIPTION:Peoples\, headquartered in AZ\, boasts 26 years of business excellence. The Fredericksburg branch\, established in September 2023\, is one of three branches inaugurated in the Mid-Atlantic region. Their culture\, exemplified by People First Home Loans\, stems from the philosophy of their owner\, Stan Morris\, who prioritizes the welfare of those they serve.\n\n\n\nThis philosophy is evident in their commitment to offering a plethora of financing options tailored to meet their clients' diverse purchase goals. Active community involvement is a hallmark\, with annual events like Toys for Tots and support initiatives for local heroes through appraisal vouchers. Peoples offers an array of loan programs including VA\, FHA\, USDA\, Conventional\, First-time Homebuyer\, and unique investor loans.\n\n\n\nFurthermore\, they provide grants to assist with down payments and closing costs\, ensuring accessibility to homeownership for all. With multiple 100% financing options available\, Peoples caters to a broad spectrum of buyers\, whether it's their inaugural home purchase or their tenth.
X-ALT-DESC;FMTTYPE=text/html:Peoples\, headquartered in AZ\, boasts 26 years of business excellence. The Fredericksburg branch\, established in September 2023\, is one of three branches inaugurated in the Mid-Atlantic region. Their culture\, exemplified by People First Home Loans\, stems from the philosophy of their owner\, Stan Morris\, who prioritizes the welfare of those they serve.<br />\n<br />\nThis philosophy is evident in their commitment to offering a plethora of financing options tailored to meet their clients&#39\; diverse purchase goals. Active community involvement is a hallmark\, with annual events like Toys for Tots and support initiatives for local heroes through appraisal vouchers. Peoples offers an array of loan programs including VA\, FHA\, USDA\, Conventional\, First-time Homebuyer\, and unique investor loans.<br />\n<br />\nFurthermore\, they provide grants to assist with down payments and closing costs\, ensuring accessibility to homeownership for all. With multiple 100% financing options available\, Peoples caters to a broad spectrum of buyers\, whether it&#39\;s their inaugural home purchase or their tenth.
LOCATION:1955 Emancipation Highway\, Ste. 120 Fredericksburg\, VA 22401
UID:e.492.13945
SEQUENCE:3
DTSTAMP:20260422T072740Z
URL:https://members.fredericksburgchamber.org/events/details/ribbon-cutting-celebrating-the-grand-opening-of-peoples-mortgage-company-13945
END:VEVENT

END:VCALENDAR
