BEGIN:VCALENDAR
VERSION:2.0
PRODID:-//ChamberMaster//Event Calendar 2.0//EN
METHOD:PUBLISH
X-PUBLISHED-TTL:P3D
REFRESH-INTERVAL:P3D
CALSCALE:GREGORIAN
BEGIN:VEVENT
DTSTART:20230309T173000Z
DTEND:20230309T180000Z
X-MICROSOFT-CDO-ALLDAYEVENT:FALSE
SUMMARY:Ribbon Cutting Celebrating the Grand Opening of Pure Barre Fredericksburg!
DESCRIPTION:Ribbon Cutting Celebrating the Grand Opening of Pure Barre Fredericksburg!
X-ALT-DESC;FMTTYPE=text/html:Ribbon Cutting Celebrating the Grand Opening of Pure Barre Fredericksburg!
LOCATION:Pure Barre Fredericksburg 1460 Central Park Blvd. #102 Fredericksburg\, VA 22401
UID:e.492.13432
SEQUENCE:3
DTSTAMP:20260422T103341Z
URL:https://members.fredericksburgchamber.org/events/details/ribbon-cutting-celebrating-the-grand-opening-of-pure-barre-fredericksburg-13432
END:VEVENT

END:VCALENDAR
