BEGIN:VCALENDAR
VERSION:2.0
PRODID:-//ChamberMaster//Event Calendar 2.0//EN
METHOD:PUBLISH
X-PUBLISHED-TTL:P3D
REFRESH-INTERVAL:P3D
CALSCALE:GREGORIAN
BEGIN:VEVENT
DTSTART:20221027T033000Z
DTEND:20221026T160000Z
X-MICROSOFT-CDO-ALLDAYEVENT:FALSE
SUMMARY:Ribbon Cutting Celebrating the Grand Opening of Real Property Management Regions!
DESCRIPTION:Ribbon Cutting Celebrating the Grand Opening of Real Property Management Regions!
X-ALT-DESC;FMTTYPE=text/html:Ribbon Cutting Celebrating the Grand Opening of Real Property Management Regions!
LOCATION:3920 Plank Road Suite 120 Fredericksburg\, Virginia 22407
UID:e.492.13125
SEQUENCE:3
DTSTAMP:20260422T181928Z
URL:https://members.fredericksburgchamber.org/events/details/ribbon-cutting-celebrating-the-grand-opening-of-real-property-management-regions-13125
END:VEVENT

END:VCALENDAR
