BEGIN:VCALENDAR
VERSION:2.0
PRODID:-//ChamberMaster//Event Calendar 2.0//EN
METHOD:PUBLISH
X-PUBLISHED-TTL:P3D
REFRESH-INTERVAL:P3D
CALSCALE:GREGORIAN
BEGIN:VEVENT
DTSTART:20230421T210000Z
DTEND:20230421T213000Z
X-MICROSOFT-CDO-ALLDAYEVENT:FALSE
SUMMARY:Ribbon Cutting Celebrating the Grand Opening of Rehana's!
DESCRIPTION:Ribbon Cutting Celebrating the Grand Opening of Rehana's!
X-ALT-DESC;FMTTYPE=text/html:Ribbon Cutting Celebrating the Grand Opening of Rehana&#39\;s!
LOCATION:104 Wolfe Street Fredericksburg\, Virginia 22401
UID:e.492.13474
SEQUENCE:3
DTSTAMP:20260422T085459Z
URL:https://members.fredericksburgchamber.org/events/details/ribbon-cutting-celebrating-the-grand-opening-of-rehana-s-13474
END:VEVENT

END:VCALENDAR
