BEGIN:VCALENDAR
VERSION:2.0
PRODID:-//ChamberMaster//Event Calendar 2.0//EN
METHOD:PUBLISH
X-PUBLISHED-TTL:P3D
REFRESH-INTERVAL:P3D
CALSCALE:GREGORIAN
BEGIN:VEVENT
DTSTART:20240426T190000Z
DTEND:20240426T193000Z
X-MICROSOFT-CDO-ALLDAYEVENT:FALSE
SUMMARY:Ribbon Cutting Celebrating the Grand Opening of Skybar!
DESCRIPTION:At Riphean Hospitality\, their mission is fueled by a sincere devotion to history\, culture\, and community. They hold a firm belief in the profound impact of hospitality\, viewing it as a catalyst for meaningful experiences\, fortified relationships\, and a ripple effect of positivity. Rooted in a deep appreciation for the past and anchored in the present\, Riphean Hospitality specializes in crafting immersive experiences that honor the unique character of each destination. Their commitment transcends mere transactions\; they strive to foster a profound sense of belonging and celebration. Dedicated to excellence\, Riphean Hospitality meticulously curates exceptional dining and beverage experiences\, inviting guests to savor the joy of shared moments to the fullest.
X-ALT-DESC;FMTTYPE=text/html:At Riphean Hospitality\, their mission is fueled by a sincere devotion to history\, culture\, and community. They hold a firm belief in the profound impact of hospitality\, viewing it as a catalyst for meaningful experiences\, fortified relationships\, and a ripple effect of positivity. Rooted in a deep appreciation for the past and anchored in the present\, Riphean Hospitality specializes in crafting immersive experiences that honor the unique character of each destination. Their commitment transcends mere transactions\; they strive to foster a profound sense of belonging and celebration. Dedicated to excellence\, Riphean Hospitality meticulously curates exceptional dining and beverage experiences\, inviting guests to savor the joy of shared moments to the fullest.
LOCATION:324 William Street Fredericksburg\, VA 22401
UID:e.492.13903
SEQUENCE:3
DTSTAMP:20260422T055022Z
URL:https://members.fredericksburgchamber.org/events/details/ribbon-cutting-celebrating-the-grand-opening-of-skybar-13903
END:VEVENT

END:VCALENDAR
