BEGIN:VCALENDAR
VERSION:2.0
PRODID:-//ChamberMaster//Event Calendar 2.0//EN
METHOD:PUBLISH
X-PUBLISHED-TTL:P3D
REFRESH-INTERVAL:P3D
CALSCALE:GREGORIAN
BEGIN:VEVENT
DTSTART:20240313T200000Z
DTEND:20240313T213000Z
X-MICROSOFT-CDO-ALLDAYEVENT:FALSE
SUMMARY:Ribbon Cutting Celebrating the Grand Opening of the New Fredericksburg Regional Chamber of Commerce Offices!
DESCRIPTION:Grand Opening Ribbon Cutting Celebration!
X-ALT-DESC;FMTTYPE=text/html:Grand Opening Ribbon Cutting Celebration!
LOCATION:Fredericksburg Regional Chamber of Commerce Canal Suites 1701 Fall Hill Avenue\, Ste.106 Fredericksburg\, Virginia 22401
UID:e.492.13901
SEQUENCE:3
DTSTAMP:20260422T041504Z
URL:https://members.fredericksburgchamber.org/events/details/ribbon-cutting-celebrating-the-grand-opening-of-the-new-fredericksburg-regional-chamber-of-commerce-offices-13901
END:VEVENT

END:VCALENDAR
