BEGIN:VCALENDAR
VERSION:2.0
PRODID:-//ChamberMaster//Event Calendar 2.0//EN
METHOD:PUBLISH
X-PUBLISHED-TTL:P3D
REFRESH-INTERVAL:P3D
CALSCALE:GREGORIAN
BEGIN:VEVENT
DTSTART:20240425T200000Z
DTEND:20240425T203000Z
X-MICROSOFT-CDO-ALLDAYEVENT:FALSE
SUMMARY:Ribbon Cutting Celebrating the Grand Opening of Union Home Mortgage!
DESCRIPTION:Founded in 1970\, Union Home Mortgage Corp. stands as a full-service mortgage banker with its corporate headquarters situated in Strongsville\, Ohio. Across the nation\, Union Home Mortgage maintains branch offices\, extending its reach and services.\n\nFor over four decades\, Union Home Mortgage has been a stalwart presence in the mortgage industry\, dedicated to providing exceptional service. Their offerings encompass a range of services as a Residential Mortgage Lender.
X-ALT-DESC;FMTTYPE=text/html:Founded in 1970\, Union Home Mortgage Corp. stands as a full-service mortgage banker with its corporate headquarters situated in Strongsville\, Ohio. Across the nation\, Union Home Mortgage maintains branch offices\, extending its reach and services.<br />\nFor over four decades\, Union Home Mortgage has been a stalwart presence in the mortgage industry\, dedicated to providing exceptional service. Their offerings encompass a range of services as a Residential Mortgage Lender.
LOCATION:3006 Lafayette Blvd Fredericksburg\, VA 22408
UID:e.492.13919
SEQUENCE:3
DTSTAMP:20260422T055120Z
URL:https://members.fredericksburgchamber.org/events/details/ribbon-cutting-celebrating-the-grand-opening-of-union-home-mortgage-13919
END:VEVENT

END:VCALENDAR
