BEGIN:VCALENDAR
VERSION:2.0
PRODID:-//ChamberMaster//Event Calendar 2.0//EN
METHOD:PUBLISH
X-PUBLISHED-TTL:P3D
REFRESH-INTERVAL:P3D
CALSCALE:GREGORIAN
BEGIN:VEVENT
DTSTART:20220825T160000Z
DTEND:20220825T163000Z
X-MICROSOFT-CDO-ALLDAYEVENT:FALSE
SUMMARY:Ribbon Cutting Celebrating The Joint Chiropractic's 2nd Location!
DESCRIPTION:Celebrating the Grand Opening of The Joint Chiropractic's 2nd Location in our Region!
X-ALT-DESC;FMTTYPE=text/html:Celebrating the Grand Opening of The Joint Chiropractic&#39\;s 2nd Location in our Region!
LOCATION:9857 Patriot Highway Fredericksburg\, Virginia 22407 (across from Target @ Cosner's Corner)
UID:e.492.13096
SEQUENCE:3
DTSTAMP:20260422T212150Z
URL:https://members.fredericksburgchamber.org/events/details/ribbon-cutting-celebrating-the-joint-chiropractic-s-2nd-location-13096
END:VEVENT

END:VCALENDAR
