BEGIN:VCALENDAR
VERSION:2.0
PRODID:-//ChamberMaster//Event Calendar 2.0//EN
METHOD:PUBLISH
X-PUBLISHED-TTL:P3D
REFRESH-INTERVAL:P3D
CALSCALE:GREGORIAN
BEGIN:VEVENT
DTSTART:20230519T140000Z
DTEND:20230519T143000Z
X-MICROSOFT-CDO-ALLDAYEVENT:FALSE
SUMMARY:Ribbon Cutting Celebrating the Launch of the CrossXRoads Program!
DESCRIPTION:Ribbon Cutting Celebrating the historic launch of its CrossXRoads program and the Center for Military and Veteran Reintegration (CMVR) for the middle Virginia region. The CrossXRoads program will provide critical resources to service members\, Veterans\, first responders\, underrepresented communities and their dependents\, within our growing community.
X-ALT-DESC;FMTTYPE=text/html:Ribbon Cutting Celebrating the historic launch of its CrossXRoads program and the Center for Military and Veteran Reintegration (CMVR) for the middle Virginia region. The CrossXRoads program will provide critical resources to service members\, Veterans\, first responders\, underrepresented communities and their dependents\, within our growing community.
LOCATION:Forest Greens Golf Club\, 4500 Poa Annua Lane\, Triangle\, VA 22172 USA
UID:e.492.13419
SEQUENCE:3
DTSTAMP:20260422T071102Z
URL:https://members.fredericksburgchamber.org/events/details/ribbon-cutting-celebrating-the-launch-of-the-crossxroads-program-13419
END:VEVENT

END:VCALENDAR
