BEGIN:VCALENDAR
VERSION:2.0
PRODID:-//ChamberMaster//Event Calendar 2.0//EN
METHOD:PUBLISH
X-PUBLISHED-TTL:P3D
REFRESH-INTERVAL:P3D
CALSCALE:GREGORIAN
BEGIN:VEVENT
DTSTART:20260121T210000Z
DTEND:20260121T213000Z
X-MICROSOFT-CDO-ALLDAYEVENT:FALSE
SUMMARY:Ribbon Cutting: Computer Cave
DESCRIPTION:Computer Cave was established with the mission of providing reliable\, community-focused technology repair and support. What began as a specialized computer repair business has evolved into a full-service electronics solutions provider\, offering expert assistance for computers\, mobile devices\, gaming systems\, and custom-built PCs.\n\nServing both individuals and businesses\, Computer Cave is known for its knowledgeable technicians\, dependable service\, and commitment to making technology accessible and easy to understand. The company offers a wide selection of laptops\, desktops\, custom gaming PCs\, computer components\, and peripherals. Services include computer\, phone\, tablet\, and gaming console repair and troubleshooting\, virus and malware removal\, data recovery\, operating system installations and upgrades\, and custom PC builds.
X-ALT-DESC;FMTTYPE=text/html:<p data-end="333" data-start="0">Computer Cave was established with the mission of providing reliable\, community-focused technology repair and support. What began as a specialized computer repair business has evolved into a full-service electronics solutions provider\, offering expert assistance for computers\, mobile devices\, gaming systems\, and custom-built PCs.</p>\n\n<p data-end="837" data-is-last-node="" data-is-only-node="" data-start="335">Serving both individuals and businesses\, Computer Cave is known for its knowledgeable technicians\, dependable service\, and commitment to making technology accessible and easy to understand. The company offers a wide selection of laptops\, desktops\, custom gaming PCs\, computer components\, and peripherals. Services include computer\, phone\, tablet\, and gaming console repair and troubleshooting\, virus and malware removal\, data recovery\, operating system installations and upgrades\, and custom PC builds.</p>\n
LOCATION:Computer Cave 1255 Carl D. Silver Pkwy Fredericksburg\, VA 22401
UID:e.492.15118
SEQUENCE:3
DTSTAMP:20260421T144636Z
URL:https://members.fredericksburgchamber.org/events/details/ribbon-cutting-computer-cave-15118
END:VEVENT

END:VCALENDAR
