BEGIN:VCALENDAR
VERSION:2.0
PRODID:-//ChamberMaster//Event Calendar 2.0//EN
METHOD:PUBLISH
X-PUBLISHED-TTL:P3D
REFRESH-INTERVAL:P3D
CALSCALE:GREGORIAN
BEGIN:VEVENT
DTSTART:20240308T150000Z
DTEND:20240308T153000Z
X-MICROSOFT-CDO-ALLDAYEVENT:FALSE
SUMMARY:Ribbon Cutting: Crimson Coward Grand Opening
DESCRIPTION:Crimson Coward\, originating from Los Angeles\, is dedicated to bringing the Nashville Hot Chicken phenomenon to California\, Texas\, Virginia\, and Michigan. Inspired by Nashville chefs and eateries\, we prioritize quality and flavor\, using fresh ingredients and premium\, all-natural\, Non-GMO chicken free of hormones and antibiotics. Their commitment is to redefine hot chicken with authentic Nashville flavor for everyone to enjoy. This is their second location in Virginia at Embry Mills!
X-ALT-DESC;FMTTYPE=text/html:<span style="font-size:12px\;"><span style="font-family:arial\;"><span style="color: rgb(13\, 13\, 13)\; white-space-collapse: preserve\;">Crimson Coward\, originating from Los Angeles\, is dedicated to bringing the Nashville Hot Chicken phenomenon to California\, Texas\, Virginia\, and Michigan. Inspired by Nashville chefs and eateries\, we prioritize quality and flavor\, using fresh ingredients and premium\, all-natural\, Non-GMO chicken free of hormones and antibiotics. Their commitment is to redefine hot chicken with authentic Nashville flavor for everyone to enjoy. This is their second location in Virginia at Embry Mills!</span></span></span>
LOCATION:Crimson Coward Nashville Hot Chicken 825 Wonder Rd\, Unite 100 Stafford\, VA 22554
UID:e.492.13883
SEQUENCE:3
DTSTAMP:20260422T041117Z
URL:https://members.fredericksburgchamber.org/events/details/ribbon-cutting-crimson-coward-grand-opening-13883
END:VEVENT

END:VCALENDAR
