BEGIN:VCALENDAR
VERSION:2.0
PRODID:-//ChamberMaster//Event Calendar 2.0//EN
METHOD:PUBLISH
X-PUBLISHED-TTL:P3D
REFRESH-INTERVAL:P3D
CALSCALE:GREGORIAN
BEGIN:VEVENT
DTSTART:20260114T170000Z
DTEND:20260114T173000Z
X-MICROSOFT-CDO-ALLDAYEVENT:FALSE
SUMMARY:Ribbon Cutting: Edge Express Car Wash Grand Opening
DESCRIPTION:EDGE Express Car Wash is dedicated to delivering the best car wash experience\, ensuring every customer leaves with a clean\, shiny\, and dry vehicle. The company prides itself on offering a first-class wash tunnel complemented by free towels\, window cleaner\, and vacuums. Friendly customer service representatives are always on hand to answer questions and enhance each visit. With locations across the Carolinas\, Virginia\, and Maryland\, EDGE Express Car Wash provides a state-of-the-art express wash experience complete with all the amenities customers expect.
X-ALT-DESC;FMTTYPE=text/html:EDGE Express Car Wash is dedicated to delivering the best car wash experience\, ensuring every customer leaves with a clean\, shiny\, and dry vehicle. The company prides itself on offering a first-class wash tunnel complemented by free towels\, window cleaner\, and vacuums. Friendly customer service representatives are always on hand to answer questions and enhance each visit. With locations across the Carolinas\, Virginia\, and Maryland\, EDGE Express Car Wash provides a state-of-the-art express wash experience complete with all the amenities customers expect.
LOCATION:Edge Express Car Wash 50 Murphy Way Fredericksburg\, VA 22405
UID:e.492.15113
SEQUENCE:3
DTSTAMP:20260422T092306Z
URL:https://members.fredericksburgchamber.org/events/details/ribbon-cutting-edge-express-car-wash-grand-opening-15113
END:VEVENT

END:VCALENDAR
