BEGIN:VCALENDAR
VERSION:2.0
PRODID:-//ChamberMaster//Event Calendar 2.0//EN
METHOD:PUBLISH
X-PUBLISHED-TTL:P3D
REFRESH-INTERVAL:P3D
CALSCALE:GREGORIAN
BEGIN:VEVENT
DTSTART:20231208T220000Z
DTEND:20231208T223000Z
X-MICROSOFT-CDO-ALLDAYEVENT:FALSE
SUMMARY:Ribbon Cutting Ethan Allen Grand Re-opening
DESCRIPTION:Founded in 1932 by Nat Ancell and Ted Baumritter\, their first purchase of a bankrupt sawmill in Beecher Falls\, VT\, led them to debut a 28-piece line of colonial style furniture. It's name for a son of Vermont and an American hero: Ethan Allen. Today we celebrate 91 years of innovation.\n\nEthan Allen offers leading interior design company\, manufacturer and retailer in the luxury home furnishings marketplace offering its customers stylish product offerings\, artisanal quality\, and personal service.
X-ALT-DESC;FMTTYPE=text/html:Founded in 1932 by Nat Ancell and Ted Baumritter\, their first purchase of a bankrupt sawmill in Beecher Falls\, VT\, led them to debut a 28-piece line of colonial style furniture. It&#39\;s name for a son of Vermont and an American hero: Ethan Allen. Today we celebrate 91 years of innovation.<br />\nEthan Allen offers leading interior design company\, manufacturer and retailer in the luxury home furnishings marketplace offering its customers stylish product offerings\, artisanal quality\, and personal service.
LOCATION:Ethan Allen 1480 Carl D. Silver Pkwy Fredericksburg\, VA 22401
UID:e.492.13750
SEQUENCE:3
DTSTAMP:20260421T233205Z
URL:https://members.fredericksburgchamber.org/events/details/ribbon-cutting-ethan-allen-grand-re-opening-13750
END:VEVENT

END:VCALENDAR
