BEGIN:VCALENDAR
VERSION:2.0
PRODID:-//ChamberMaster//Event Calendar 2.0//EN
METHOD:PUBLISH
X-PUBLISHED-TTL:P3D
REFRESH-INTERVAL:P3D
CALSCALE:GREGORIAN
BEGIN:VEVENT
DTSTART:20230817T200000Z
DTEND:20230817T203000Z
X-MICROSOFT-CDO-ALLDAYEVENT:FALSE
SUMMARY:Ribbon Cutting: Extended Stay America-Fredericksburg
DESCRIPTION:Extended Stay America is a hospitality company that goes beyond the basics of just simple accommodations. Kara-Hospitality was formed in 2019. It opened it's first Extended Stay in 2020. Fredericksburg is the second jewel in the company's chain.
X-ALT-DESC;FMTTYPE=text/html:Extended Stay America is a hospitality company that goes beyond the basics of just simple accommodations. Kara-Hospitality was formed in 2019. It opened it&#39\;s first Extended Stay in 2020. Fredericksburg is the second jewel in the company&#39\;s chain.
LOCATION:1065 Hospitality Lane Fredericksburg\, VA 22401
UID:e.492.13649
SEQUENCE:3
DTSTAMP:20260422T024518Z
URL:https://members.fredericksburgchamber.org/events/details/ribbon-cutting-extended-stay-america-fredericksburg-13649
END:VEVENT

END:VCALENDAR
