BEGIN:VCALENDAR
VERSION:2.0
PRODID:-//ChamberMaster//Event Calendar 2.0//EN
METHOD:PUBLISH
X-PUBLISHED-TTL:P3D
REFRESH-INTERVAL:P3D
CALSCALE:GREGORIAN
BEGIN:VEVENT
DTSTART:20240502T200000Z
DTEND:20240502T203000Z
X-MICROSOFT-CDO-ALLDAYEVENT:FALSE
SUMMARY:Ribbon Cutting: Flathead Junk Removal
DESCRIPTION:Flathead Junk Removal\, deriving its name from the Flathead Indians of MT\, exemplifies a company dedicated to providing customers with five-star service\, all while contributing to the community. Their commitment extends to empowering employees\, offering them the opportunity to pursue business ownership once they've showcased the requisite motivation and determination. This foundational principle stems from the belief of their Founder\, Ken Matejek\, in the ability to run a successful business while simultaneously giving back to the community and fostering employee advancement. Such a philosophy creates a mutually beneficial arrangement for customers\, employees\, and Flathead alike.\n\nThey offer junk removal\, disaster clean out\, commercial junk removal and large appliance removal.
X-ALT-DESC;FMTTYPE=text/html:Flathead Junk Removal\, deriving its name from the Flathead Indians of MT\, exemplifies a company dedicated to providing customers with five-star service\, all while contributing to the community. Their commitment extends to empowering employees\, offering them the opportunity to pursue business ownership once they&#39\;ve showcased the requisite motivation and determination. This foundational principle stems from the belief of their Founder\, Ken Matejek\, in the ability to run a successful business while simultaneously giving back to the community and fostering employee advancement. Such a philosophy creates a mutually beneficial arrangement for customers\, employees\, and Flathead alike.<br />\nThey offer junk removal\, disaster clean out\, commercial junk removal and large appliance removal.
LOCATION:Legacy Woods Clubhouse 11926 Legacy Woods Dr. Fredericksburg\, VA 22407
UID:e.492.13956
SEQUENCE:3
DTSTAMP:20260422T070518Z
URL:https://members.fredericksburgchamber.org/events/details/ribbon-cutting-flathead-junk-removal-13956
END:VEVENT

END:VCALENDAR
