BEGIN:VCALENDAR
VERSION:2.0
PRODID:-//ChamberMaster//Event Calendar 2.0//EN
METHOD:PUBLISH
X-PUBLISHED-TTL:P3D
REFRESH-INTERVAL:P3D
CALSCALE:GREGORIAN
BEGIN:VEVENT
DTSTART:20240111T213000Z
DTEND:20240111T220000Z
X-MICROSOFT-CDO-ALLDAYEVENT:FALSE
SUMMARY:Ribbon Cutting for Amy Cherry Taylor & Associates of Porch & Stable Realty
DESCRIPTION:Amy Cherry Taylor has been in the real estate business for twenty years. She started her team\, Amy Cherry Taylor & Associates seven years ago. During these years\, she and her team have helped thousands of families buy and sell real estate in the Greater Fredericksburg Region. Her team partners with some of the best vendors and small businesses in town to provide the best experience possible. Out of this love and dedication to the industry\, Porch & Stable was born!
X-ALT-DESC;FMTTYPE=text/html:<span style="color: rgb(66\, 66\, 66)\; font-family: &quot\;Times New Roman&quot\;\, serif\; font-size: 16px\;">Amy Cherry Taylor has been in the real estate business for twenty years. She started her team\, Amy Cherry Taylor &amp\; Associates seven years ago. During these years\, she and her team have helped thousands of families buy and sell real estate in the Greater Fredericksburg Region. Her team partners with some of the best vendors and small businesses in town to provide the best experience possible. Out of this love and dedication to the&nbsp\;industry\, Porch &amp\; Stable was born!</span>
LOCATION:Amy Cherry Taylor & Associates at Porch & Stable Realty 11019 Leavells Road. Fredericksburg\, VA 22407
UID:e.492.13786
SEQUENCE:3
DTSTAMP:20260422T005631Z
URL:https://members.fredericksburgchamber.org/events/details/ribbon-cutting-for-amy-cherry-taylor-associates-of-porch-stable-realty-13786
END:VEVENT

END:VCALENDAR
