BEGIN:VCALENDAR
VERSION:2.0
PRODID:-//ChamberMaster//Event Calendar 2.0//EN
METHOD:PUBLISH
X-PUBLISHED-TTL:P3D
REFRESH-INTERVAL:P3D
CALSCALE:GREGORIAN
BEGIN:VEVENT
DTSTART:20230516T203000Z
DTEND:20230516T210000Z
X-MICROSOFT-CDO-ALLDAYEVENT:FALSE
SUMMARY:Ribbon Cutting for Fraser Wood Elements: Thank you for 9 Great Years in the 'Burg!
DESCRIPTION:Ribbon Cutting Celebrating the continued support from our customers both local & far-flung! We've enjoyed partnering with local businesses on their projects & making their brand distinctive from other like businesses.
X-ALT-DESC;FMTTYPE=text/html:Ribbon Cutting Celebrating the continued support from our customers both local &amp\; far-flung! We&#39\;ve enjoyed partnering with local businesses on their projects &amp\; making their brand distinctive from other like businesses.
LOCATION:1023 Caroline Street Fredericksburg\, Virginia 22401
UID:e.492.13472
SEQUENCE:3
DTSTAMP:20260422T071506Z
URL:https://members.fredericksburgchamber.org/events/details/ribbon-cutting-for-fraser-wood-elements-thank-you-for-9-great-years-in-the-burg-13472
END:VEVENT

END:VCALENDAR
