BEGIN:VCALENDAR
VERSION:2.0
PRODID:-//ChamberMaster//Event Calendar 2.0//EN
METHOD:PUBLISH
X-PUBLISHED-TTL:P3D
REFRESH-INTERVAL:P3D
CALSCALE:GREGORIAN
BEGIN:VEVENT
DTSTART:20240423T200000Z
DTEND:20240423T203000Z
X-MICROSOFT-CDO-ALLDAYEVENT:FALSE
SUMMARY:Ribbon Cutting for Stafford Nothing Bundt Cakes Grand Opening!
DESCRIPTION:Founded in 1997\, Dallas-based Nothing Bundt Cakes is the nation's largest specialty cake company\, with more than 560 franchised and corporate bakeries in 40-plus states and Canada and growing. Cakeries Bring the Joy  by offering handcrafted Bundt Cakes for pickup or delivery in a variety of flavors and sizes\, such as Bundtinis \, the brand's cupcake-sized Bundt Cakes\, personal-sized Bundtlets and 8- and 10-inch Bundt Cakes\, plus decorations and gift options for life's "just because" moments and special celebrations.
X-ALT-DESC;FMTTYPE=text/html:<span style="color: rgb(0\, 0\, 0)\; font-family: &quot\;Times New Roman&quot\;\; font-size: medium\;">Founded in 1997\, Dallas-based Nothing Bundt Cakes is the nation&rsquo\;s largest specialty cake company\, with more than 560 franchised and corporate bakeries in 40-plus states and Canada and growing. Cakeries Bring the Joy&trade\; by offering handcrafted Bundt Cakes for pickup or delivery in a variety of flavors and sizes\, such as Bundtinis&reg\;\, the brand&rsquo\;s cupcake-sized Bundt Cakes\, personal-sized Bundtlets and 8- and 10-inch Bundt Cakes\, plus decorations and gift options for life&rsquo\;s &ldquo\;just because&rdquo\; moments and special celebrations.</span>
LOCATION:Nothing Bundt Cakes- Stafford 1425 Stafford Marketplace\, Ste. 103 Stafford\, VA 22556
UID:e.492.13943
SEQUENCE:3
DTSTAMP:20260422T054935Z
URL:https://members.fredericksburgchamber.org/events/details/ribbon-cutting-for-stafford-nothing-bundt-cakes-grand-opening-13943
END:VEVENT

END:VCALENDAR
