BEGIN:VCALENDAR
VERSION:2.0
PRODID:-//ChamberMaster//Event Calendar 2.0//EN
METHOD:PUBLISH
X-PUBLISHED-TTL:P3D
REFRESH-INTERVAL:P3D
CALSCALE:GREGORIAN
BEGIN:VEVENT
DTSTART:20231103T153000Z
DTEND:20231103T160000Z
X-MICROSOFT-CDO-ALLDAYEVENT:FALSE
SUMMARY:Ribbon Cutting Fredericksburg Food Bank
DESCRIPTION:Ribbon Cutting celebrating the Grand Opening of a 2nd Fredericksburg Food Bank Location!\n\nThe organization is renowned as the foremost charitable food assistance entity serving the city of Fredericksburg\, alongside Caroline\, King George\, Spotsylvania\, and Stafford counties\, in addition to the Locust Grove community in Orange County. With a history spanning just over four decades\, the organization managed to distribute roughly 6 million meals to the community in its previous year of operation. Now\, the team is thrilled to commemorate the opening of a second warehouse\, enabling them to further expand their charitable food assistance services.
X-ALT-DESC;FMTTYPE=text/html:Ribbon Cutting celebrating the Grand Opening of a 2nd Fredericksburg Food Bank Location!<br />\nThe organization is renowned as the foremost charitable food assistance entity serving the city of Fredericksburg\, alongside Caroline\, King George\, Spotsylvania\, and Stafford counties\, in addition to the Locust Grove community in Orange County. With a history spanning just over four decades\, the organization managed to distribute roughly 6 million meals to the community in its previous year of operation. Now\, the team is thrilled to commemorate the opening of a second warehouse\, enabling them to further expand their charitable food assistance services.
LOCATION:Fredericksburg Food Bank 480 Central Road Fredericksburg\, VA 22401
UID:e.492.13658
SEQUENCE:3
DTSTAMP:20260421T221024Z
URL:https://members.fredericksburgchamber.org/events/details/ribbon-cutting-fredericksburg-food-bank-13658
END:VEVENT

END:VCALENDAR
