BEGIN:VCALENDAR
VERSION:2.0
PRODID:-//ChamberMaster//Event Calendar 2.0//EN
METHOD:PUBLISH
X-PUBLISHED-TTL:P3D
REFRESH-INTERVAL:P3D
CALSCALE:GREGORIAN
BEGIN:VEVENT
DTSTART:20221020T200000Z
DTEND:20221020T203000Z
X-MICROSOFT-CDO-ALLDAYEVENT:FALSE
SUMMARY:Ribbon Cutting: Grand Opening Matern Staffing's New Office Space!
DESCRIPTION:Ribbon Cutting Celebrating the Grand Opening of Matern Staffing's Beautiful New Offices!
X-ALT-DESC;FMTTYPE=text/html:Ribbon Cutting Celebrating the Grand Opening of Matern Staffing&#39\;s Beautiful New Offices!
LOCATION:10712 Ballantraye Drive Suite 312 Fredericksburg\, Virginia 22407
UID:e.492.13078
SEQUENCE:3
DTSTAMP:20260422T194358Z
URL:https://members.fredericksburgchamber.org/events/details/ribbon-cutting-grand-opening-matern-staffing-s-new-office-space-13078
END:VEVENT

END:VCALENDAR
