BEGIN:VCALENDAR
VERSION:2.0
PRODID:-//ChamberMaster//Event Calendar 2.0//EN
METHOD:PUBLISH
X-PUBLISHED-TTL:P3D
REFRESH-INTERVAL:P3D
CALSCALE:GREGORIAN
BEGIN:VEVENT
DTSTART:20250130T210000Z
DTEND:20250130T213000Z
X-MICROSOFT-CDO-ALLDAYEVENT:FALSE
SUMMARY:Ribbon Cutting: Grand Opening of Mr. Rooter
DESCRIPTION:Mr. Rooter Plumbing of Fredericksburg\, a locally owned and operated franchise\, provides professional and reliable plumbing services to the community. As part of the nationally recognized Mr. Rooter Plumbing network\, the company specializes in drain cleaning\, water heater repairs\, leak detection\, and comprehensive plumbing solutions. Offering a wide range of services including pipe repairs\, sewer line services\, plumbing inspections\, and emergency plumbing the Fredericksburg team is dedicated to meeting the residential and commercial plumbing needs of their customers with high-quality workmanship and trusted expertise.
X-ALT-DESC;FMTTYPE=text/html:<p>Mr. Rooter Plumbing of Fredericksburg\, a locally owned and operated franchise\, provides professional and reliable plumbing services to the community. As part of the nationally recognized Mr. Rooter Plumbing network\, the company specializes in drain cleaning\, water heater repairs\, leak detection\, and comprehensive plumbing solutions. Offering a wide range of services&mdash\;including pipe repairs\, sewer line services\, plumbing inspections\, and emergency plumbing&mdash\;the Fredericksburg team is dedicated to meeting the residential and commercial plumbing needs of their customers with high-quality workmanship and trusted expertise.</p>\n
LOCATION:404 Westwood Office Park Fredericksburg\, VA 22401
UID:e.492.14352
SEQUENCE:3
DTSTAMP:20260424T144033Z
URL:https://members.fredericksburgchamber.org/events/details/ribbon-cutting-grand-opening-of-mr-rooter-14352
END:VEVENT

END:VCALENDAR
