BEGIN:VCALENDAR
VERSION:2.0
PRODID:-//ChamberMaster//Event Calendar 2.0//EN
METHOD:PUBLISH
X-PUBLISHED-TTL:P3D
REFRESH-INTERVAL:P3D
CALSCALE:GREGORIAN
BEGIN:VEVENT
DTSTART:20240105T160000Z
DTEND:20240105T163000Z
X-MICROSOFT-CDO-ALLDAYEVENT:FALSE
SUMMARY:Ribbon Cutting Grand Opening of Whistle Express Car Wash
DESCRIPTION:Whistle Express Car Wash serves as the preferred local car wash for the greater Fredericksburg area. Customers can experience a quick and efficient 3-minute car wash while remaining in their vehicles\, emerging with a shiny finish and minimal wait times. The car wash employs eco-friendly practices\, ensuring a thorough cleaning with minimal environmental impact.
X-ALT-DESC;FMTTYPE=text/html:Whistle Express Car Wash serves as the preferred local car wash for the greater Fredericksburg area. Customers can experience a quick and efficient 3-minute car wash while remaining in their vehicles\, emerging with a shiny finish and minimal wait times. The car wash employs eco-friendly practices\, ensuring a thorough cleaning with minimal environmental impact.
LOCATION:Whistle Express Car Wash 10813 Tidewater Trail\, Fredericksburg\, VA 22408
UID:e.492.13809
SEQUENCE:3
DTSTAMP:20260422T005556Z
URL:https://members.fredericksburgchamber.org/events/details/ribbon-cutting-grand-opening-of-whistle-express-car-wash-13809
END:VEVENT

END:VCALENDAR
