BEGIN:VCALENDAR
VERSION:2.0
PRODID:-//ChamberMaster//Event Calendar 2.0//EN
METHOD:PUBLISH
X-PUBLISHED-TTL:P3D
REFRESH-INTERVAL:P3D
CALSCALE:GREGORIAN
BEGIN:VEVENT
DTSTART:20260529T203000Z
DTEND:20260529T210000Z
X-MICROSOFT-CDO-ALLDAYEVENT:FALSE
SUMMARY:Ribbon Cutting: K Pot Fredericksburg
DESCRIPTION:K Pot Fredericksburg opened its doors in December and quickly became a go to destination in Central Park for all you can eat Korean BBQ and hot pot. The restaurant is focused on satisfying the area's cravings with fresh ingredients\, bold flavors\, and a dining experience designed to bring people together. In just 3 months\, K Pot Fredericksburg has built a reputation for offering more than a meal\, with sizzling grills\, bubbling broths\, vibrant drinks\, and a lively atmosphere where friends\, families\, and food lovers can gather\, celebrate\, and make memories. Services and offerings include hot pot\, Korean BBQ\, a full service bar\, and boba drinks\, along with creative cocktails\, soju\, mocktails\, and other non alcoholic options.
X-ALT-DESC;FMTTYPE=text/html:K Pot Fredericksburg opened its doors in December and quickly became a go to destination in Central Park for all you can eat Korean BBQ and hot pot. The restaurant is focused on satisfying the area&rsquo\;s cravings with fresh ingredients\, bold flavors\, and a dining experience designed to bring people together. In just 3 months\, K Pot Fredericksburg has built a reputation for offering more than a meal\, with sizzling grills\, bubbling broths\, vibrant drinks\, and a lively atmosphere where friends\, families\, and food lovers can gather\, celebrate\, and make memories. Services and offerings include hot pot\, Korean BBQ\, a full service bar\, and boba drinks\, along with creative cocktails\, soju\, mocktails\, and other non alcoholic options.&nbsp\;
LOCATION:K Pot Fredericksburg 1791 Carl D Silver Pkwy Fredericksburg\, VA 22401
UID:e.492.15369
SEQUENCE:3
DTSTAMP:20260421T143636Z
URL:https://members.fredericksburgchamber.org/events/details/ribbon-cutting-k-pot-fredericksburg-15369
END:VEVENT

END:VCALENDAR
