BEGIN:VCALENDAR
VERSION:2.0
PRODID:-//ChamberMaster//Event Calendar 2.0//EN
METHOD:PUBLISH
X-PUBLISHED-TTL:P3D
REFRESH-INTERVAL:P3D
CALSCALE:GREGORIAN
BEGIN:VEVENT
DTSTART:20250127T170000Z
DTEND:20250127T173000Z
X-MICROSOFT-CDO-ALLDAYEVENT:FALSE
SUMMARY:Ribbon Cutting: Kickoff RUW Prosper Tax Service
DESCRIPTION:Rappahannock United Way has been an integral part of our local community for over 75 years. RUW was formed in 1939 as the Community Care Fund: a voluntary community organization intent upon raising and distributing charitable contributions to benefit the community. Since then the organization has grown and evolved to meet the needs of our community. Thousands of volunteers have given their time through Rappahannock United Way to improve the social and economic well-being of residents in Caroline\, King George\, Spotsylvania\, and Stafford counties and the city of Fredericksburg.
X-ALT-DESC;FMTTYPE=text/html:Rappahannock United Way has been an integral part of our local community for over 75 years. RUW was formed in 1939&nbsp\;as the Community Care Fund: a voluntary community organization intent upon raising and distributing charitable contributions to benefit the community. Since then the organization has grown and evolved to meet the needs of our community. Thousands of volunteers have given their time through Rappahannock United Way to improve the social and economic well-being of residents in Caroline\, King George\, Spotsylvania\, and Stafford counties and the city of Fredericksburg.
LOCATION:3310 Shannon Park Drive Fredericksburg\, Va 22408
UID:e.492.14350
SEQUENCE:3
DTSTAMP:20260424T144034Z
URL:https://members.fredericksburgchamber.org/events/details/ribbon-cutting-kickoff-ruw-prosper-tax-service-14350
END:VEVENT

END:VCALENDAR
