BEGIN:VCALENDAR
VERSION:2.0
PRODID:-//ChamberMaster//Event Calendar 2.0//EN
METHOD:PUBLISH
X-PUBLISHED-TTL:P3D
REFRESH-INTERVAL:P3D
CALSCALE:GREGORIAN
BEGIN:VEVENT
DTSTART:20260508T200000Z
DTEND:20260508T203000Z
X-MICROSOFT-CDO-ALLDAYEVENT:FALSE
SUMMARY:Ribbon Cutting: Rinehart Bryant Anniversary
DESCRIPTION:Rinehart Bryant\, PLLC was founded in September 2021 after breaking off from another firm. The practice began with 4 attorneys and 4 staff members and has since grown by an additional 5 attorneys and 2 staff members. Over the past 5 years in the area\, including 1 year in Spotsylvania\, the firm has continued to grow and expand its practice throughout the Fredericksburg region. The firm primarily offers family law services\, while also handling some criminal defense work.
X-ALT-DESC;FMTTYPE=text/html:Rinehart Bryant\, PLLC was founded in September 2021 after breaking off from another firm. The practice began with 4 attorneys and 4 staff members and has since grown by an additional 5 attorneys and 2 staff members. Over the past 5 years in the area\, including 1 year in Spotsylvania\, the firm has continued to grow and expand its practice throughout the Fredericksburg region. The firm primarily offers family law services\, while also handling some criminal defense work.&nbsp\;
LOCATION:Rinehart Bryant 9124 Courthouse Road\, Ste 106 Spotsylvania\, VA 22553
UID:e.492.15368
SEQUENCE:3
DTSTAMP:20260421T143508Z
URL:https://members.fredericksburgchamber.org/events/details/ribbon-cutting-rinehart-bryant-anniversary-15368
END:VEVENT

END:VCALENDAR
