BEGIN:VCALENDAR
VERSION:2.0
PRODID:-//ChamberMaster//Event Calendar 2.0//EN
METHOD:PUBLISH
X-PUBLISHED-TTL:P3D
REFRESH-INTERVAL:P3D
CALSCALE:GREGORIAN
BEGIN:VEVENT
DTSTART:20240515T153000Z
DTEND:20240515T160000Z
X-MICROSOFT-CDO-ALLDAYEVENT:FALSE
SUMMARY:Ribbon Cutting: RSQ Training
DESCRIPTION:RSQ Training was established by a father who found himself in a situation where he had to administer emergency medical care to his son. Following his retirement from the USMC in order to provide medical care for his son at home\, he aimed to empower his community to be better prepared to assist one another. Leveraging his expertise as a Humanitarian Aid and Disaster Relief officer\, a Search and Rescue technician\, and an emergency planning specialist\, he launched RSQ Training with the goal of fostering resilient communities. RSQ Training serves as a resource to help individuals become the heroes their communities rely on.\n\nRSQ Training provides two distinct types of services: emergency preparedness and emergency response\, offering both training and consulting. Our preparedness services cater to individuals\, families\, and businesses\, encompassing CPR and other essential training\, as well as consulting and training for the development of emergency action plans. On the other hand\, our response training is technical\, designed to equip individuals with the skills necessary to respond effectively in emergency situations.
X-ALT-DESC;FMTTYPE=text/html:RSQ Training was established by a father who found himself in a situation where he had to administer emergency medical care to his son. Following his retirement from the USMC in order to provide medical care for his son at home\, he aimed to empower his community to be better prepared to assist one another. Leveraging his expertise as a Humanitarian Aid and Disaster Relief officer\, a Search and Rescue technician\, and an emergency planning specialist\, he launched RSQ Training with the goal of fostering resilient communities. RSQ Training serves as a resource to help individuals become the heroes their communities rely on.<br />\nRSQ Training provides two distinct types of services: emergency preparedness and emergency response\, offering both training and consulting. Our preparedness services cater to individuals\, families\, and businesses\, encompassing CPR and other essential training\, as well as consulting and training for the development of emergency action plans. On the other hand\, our response training is technical\, designed to equip individuals with the skills necessary to respond effectively in emergency situations.
LOCATION:RSQ Training 1193 Richmond Hwy\, Suite B Fredericksburg\, VA 22405
UID:e.492.13972
SEQUENCE:3
DTSTAMP:20260422T070443Z
URL:https://members.fredericksburgchamber.org/events/details/ribbon-cutting-rsq-training-13972
END:VEVENT

END:VCALENDAR
