BEGIN:VCALENDAR
VERSION:2.0
PRODID:-//ChamberMaster//Event Calendar 2.0//EN
METHOD:PUBLISH
X-PUBLISHED-TTL:P3D
REFRESH-INTERVAL:P3D
CALSCALE:GREGORIAN
BEGIN:VEVENT
DTSTART:20240516T160000Z
DTEND:20240516T163000Z
X-MICROSOFT-CDO-ALLDAYEVENT:FALSE
SUMMARY:Ribbon Cutting: SaVida Health
DESCRIPTION:Welcome to SaVida Health! A dedicated center for opioid addiction treatment\, their team of Suboxone doctors specializes in providing effective\, compassionate\, and respectful medication-assisted treatment for opioid and alcohol addiction. They are committed to delivering personalized care that respects each individual's journey towards recovery. SaVida Health offers outpatient medicated assisted treatment along with counseling services for those grappling with opioid and alcohol dependence. Additionally\, they provide psychiatric medication services and hepatitis C treatment.
X-ALT-DESC;FMTTYPE=text/html:Welcome to SaVida Health! A dedicated center for opioid addiction treatment\, their team of Suboxone doctors specializes in providing effective\, compassionate\, and respectful medication-assisted treatment for opioid and alcohol addiction. They are committed to delivering personalized care that respects each individual&#39\;s journey towards recovery. SaVida Health offers outpatient medicated assisted treatment along with counseling services for those grappling with opioid and alcohol dependence. Additionally\, they provide psychiatric medication services and hepatitis C treatment.
LOCATION:SaVida Health 308 Westwood Office Park Fredericksburg\, VA 22401
UID:e.492.13962
SEQUENCE:3
DTSTAMP:20260422T070744Z
URL:https://members.fredericksburgchamber.org/events/details/ribbon-cutting-savida-health-13962
END:VEVENT

END:VCALENDAR
