BEGIN:VCALENDAR
VERSION:2.0
PRODID:-//ChamberMaster//Event Calendar 2.0//EN
METHOD:PUBLISH
X-PUBLISHED-TTL:P3D
REFRESH-INTERVAL:P3D
CALSCALE:GREGORIAN
BEGIN:VEVENT
DTSTART:20221213T220000Z
DTEND:20221213T223000Z
X-MICROSOFT-CDO-ALLDAYEVENT:FALSE
SUMMARY:Ribbon Cutting: Stafford Onelife Fitness Celebrating Their Expansion: New Saltwater Pool\, Whirlpool & Additional Training Space!
DESCRIPTION:Celebrating the Expansion of Their Space: Beautiful New Saltwater Pool\, Whirlpool and Additional Training Space!
X-ALT-DESC;FMTTYPE=text/html:Celebrating the Expansion of Their Space: Beautiful New Saltwater Pool\, Whirlpool and Additional Training Space!
LOCATION:315 Garrisonville Road Stafford\, Virginia 22554
UID:e.492.13286
SEQUENCE:3
DTSTAMP:20260422T152403Z
URL:https://members.fredericksburgchamber.org/events/details/ribbon-cutting-stafford-onelife-fitness-celebrating-their-expansion-new-saltwater-pool-whirlpool-additional-training-space-13286
END:VEVENT

END:VCALENDAR
